BEGIN:VCALENDAR
VERSION:2.0
PRODID:-//Circuitiverdi - ECPv5.0.2//NONSGML v1.0//EN
CALSCALE:GREGORIAN
METHOD:PUBLISH
X-WR-CALNAME:Circuitiverdi
X-ORIGINAL-URL:https://www.circuitiverdi.it
X-WR-CALDESC:Eventi per Circuitiverdi
BEGIN:VTIMEZONE
TZID:Europe/Rome
BEGIN:DAYLIGHT
TZOFFSETFROM:+0100
TZOFFSETTO:+0200
TZNAME:CEST
DTSTART:20110327T010000
END:DAYLIGHT
BEGIN:STANDARD
TZOFFSETFROM:+0200
TZOFFSETTO:+0100
TZNAME:CET
DTSTART:20111030T010000
END:STANDARD
END:VTIMEZONE
BEGIN:VEVENT
DTSTART;VALUE=DATE:20110611
DTEND;VALUE=DATE:20110619
DTSTAMP:20260421T132044
CREATED:20110527T103350Z
LAST-MODIFIED:20110530T082156Z
UID:3645-1307750400-1308441540@www.circuitiverdi.it
SUMMARY:Re Boat Race
DESCRIPTION:Per la prima volta in Italia – al Lido di Ostia (Roma) dall’11 al 18 giugno – una regata di imbarcazioni riciclate. No\, non si tratta una barchetta di seconda mano ereditata da chissà quale parente lontano! Stiamo parlando di imbarcazioni costruite con materiale di riciclo\, quali plastica\, tetrapak o lattine di alluminio. Imbarcazioni\, però\, che siano in grado di prendere il largo\, anche senza motore. \n
URL:https://www.circuitiverdi.it/event/re-boat-race/
LOCATION:Unnamed Venue\, Lidio di Ostia\, Ostia\, Italia
CATEGORIES:News
END:VEVENT
END:VCALENDAR